BEGIN:VCALENDAR
VERSION:2.0
PRODID:-//TeamYou - ECPv6.11.2//NONSGML v1.0//EN
CALSCALE:GREGORIAN
METHOD:PUBLISH
X-WR-CALNAME:TeamYou
X-ORIGINAL-URL:https://theteamyou.com
X-WR-CALDESC:Events for TeamYou
REFRESH-INTERVAL;VALUE=DURATION:PT1H
X-Robots-Tag:noindex
X-PUBLISHED-TTL:PT1H
BEGIN:VTIMEZONE
TZID:America/Detroit
BEGIN:DAYLIGHT
TZOFFSETFROM:-0500
TZOFFSETTO:-0400
TZNAME:EDT
DTSTART:20240310T070000
END:DAYLIGHT
BEGIN:STANDARD
TZOFFSETFROM:-0400
TZOFFSETTO:-0500
TZNAME:EST
DTSTART:20241103T060000
END:STANDARD
END:VTIMEZONE
BEGIN:VEVENT
DTSTART;TZID=America/Detroit:20241120T190000
DTEND;TZID=America/Detroit:20241120T203000
DTSTAMP:20260422T054331
CREATED:20241112T150645Z
LAST-MODIFIED:20241113T155058Z
UID:96-1732129200-1732134600@theteamyou.com
SUMMARY:Raising Frequency Series – Symbol Attunement – series 1
DESCRIPTION:Moving forward instead of staying in the mud can only be achieved by raising our frequency to allow for new energies to come our way. One helpful way is to allow for new information to be downloaded from the source through symbols. Symbols can help you integrate more easily into your new expanded space. \n\n\n\nThis class is really transforming. You get to pick out 3 symbols you would like to get attuned to out of 18. They are particular to your needs at this time. It is similar to Reiki for those of you who have had a Reiki attunement\, yet completely different. It is a true frequency upgrade. \n\n\n\nClass cost – $25 – Please pay cash/credit at class. \n\n\n\nFor those who have attended this class before and want additional symbol attunements\, class is only 10$. \n\n\n\nPay Now
URL:https://theteamyou.com/teamyou-event/raising-frequency-series-symbol-attunement-series-1/
END:VEVENT
END:VCALENDAR