BEGIN:VCALENDAR
VERSION:2.0
PRODID:-//TeamYou - ECPv6.11.2//NONSGML v1.0//EN
CALSCALE:GREGORIAN
METHOD:PUBLISH
X-ORIGINAL-URL:https://theteamyou.com
X-WR-CALDESC:Events for TeamYou
REFRESH-INTERVAL;VALUE=DURATION:PT1H
X-Robots-Tag:noindex
X-PUBLISHED-TTL:PT1H
BEGIN:VTIMEZONE
TZID:America/Detroit
BEGIN:DAYLIGHT
TZOFFSETFROM:-0500
TZOFFSETTO:-0400
TZNAME:EDT
DTSTART:20250309T070000
END:DAYLIGHT
BEGIN:STANDARD
TZOFFSETFROM:-0400
TZOFFSETTO:-0500
TZNAME:EST
DTSTART:20251102T060000
END:STANDARD
END:VTIMEZONE
BEGIN:VEVENT
DTSTART;TZID=America/Detroit:20250123T183000
DTEND;TZID=America/Detroit:20250123T200000
DTSTAMP:20260421T230413
CREATED:20241216T171423Z
LAST-MODIFIED:20241216T171424Z
UID:180-1737657000-1737662400@theteamyou.com
SUMMARY:Developing Relationships with your Spirit Guides
DESCRIPTION:Come join us for a 5 week course developing relationships with your Spirit Guides. The class is every Thursday evening starting January 23\, 2025. Classes are from 6:30 p.m to 8:00 p.m. on January 23\, January 30\, February 6\,  February 13 and the final class will be February 20\, 2025. \n\n\n\nLearn to develop a relationship with your guides in your every day life and help transform yourself. Each week we will work on a different set of guides\, introducing you to different modalities\, setting up our boundaries and finding the best fit for you. Some of the connections will be with Archangels\, guardian angel\, power animal\, and surgeons. The final class will be a combining of all tools learned with the help of tarot\, crystal ball and pendulum. \n\n\n\nThis class is very transformational. You will experience many things… come and start connecting and developing a relationship with your guides. \n\n\n\nClass cost – $150RSVP for your spot: healingwithteamyou@gmail.comPay at door cash or credit.
URL:https://theteamyou.com/teamyou-event/developing-relationships-with-your-spirit-guides-2/
END:VEVENT
END:VCALENDAR